BEGIN:VCALENDAR
VERSION:2.0
PRODID:-//lifelinemo.org//NONSGML kigkonsult.se iCalcreator 2.30.10//
CALSCALE:GREGORIAN
METHOD:PUBLISH
UID:db8382ab-0635-46f4-bd13-1d2d8a472da3
X-WR-CALDESC:
X-WR-RELCALID:a804aec51f331fa234552cb4f08e5fd4
X-WR-TIMEZONE:America/Chicago
BEGIN:VTIMEZONE
TZID:America/Chicago
BEGIN:STANDARD
TZNAME:CST
DTSTART:20241103T020000
TZOFFSETFROM:-0500
TZOFFSETTO:-0600
RDATE:20251102T020000
RDATE:20261101T020000
END:STANDARD
BEGIN:DAYLIGHT
TZNAME:CDT
DTSTART:20250309T020000
TZOFFSETFROM:-0600
TZOFFSETTO:-0500
RDATE:20260308T020000
END:DAYLIGHT
END:VTIMEZONE
BEGIN:VEVENT
UID:70452a37-1dd2-4316-9c2c-3b5936d1c291
DTSTAMP:20260421T080837Z
DESCRIPTION:
DTSTART;TZID=America/Chicago:20250506T100000
DTEND;TZID=America/Chicago:20250506T110000
LOCATION:Knox County Health Department\, 102 Monticello\, Edina\, MO 63537 
 US
SUMMARY:Mobile Clinic: Edina\, MO
END:VEVENT
END:VCALENDAR
