BEGIN:VCALENDAR
VERSION:2.0
PRODID:-//lifelinemo.org//NONSGML kigkonsult.se iCalcreator 2.30.10//
CALSCALE:GREGORIAN
METHOD:PUBLISH
UID:63c880d2-2c04-47a6-ae5e-81dc6ab1e541
X-WR-CALDESC:
X-WR-RELCALID:ed51fdd5b4f22fef6992c103fc7b5ed1
X-WR-TIMEZONE:America/Chicago
BEGIN:VTIMEZONE
TZID:America/Chicago
BEGIN:STANDARD
TZNAME:CST
DTSTART:20241103T020000
TZOFFSETFROM:-0500
TZOFFSETTO:-0600
RDATE:20251102T020000
RDATE:20261101T020000
END:STANDARD
BEGIN:DAYLIGHT
TZNAME:CDT
DTSTART:20250309T020000
TZOFFSETFROM:-0600
TZOFFSETTO:-0500
RDATE:20260308T020000
END:DAYLIGHT
END:VTIMEZONE
BEGIN:VEVENT
UID:21a4d9d0-93ca-49a0-a37e-14578edc9840
DTSTAMP:20260421T081317Z
DESCRIPTION:
DTSTART;TZID=America/Chicago:20250506T050000
DTEND;TZID=America/Chicago:20250508T050001
LOCATION:Green City School District\, Green City\, MO
SUMMARY:School Presentation: Green City School District
END:VEVENT
END:VCALENDAR
