BEGIN:VCALENDAR
VERSION:2.0
PRODID:-//lifelinemo.org//NONSGML kigkonsult.se iCalcreator 2.30.10//
CALSCALE:GREGORIAN
METHOD:PUBLISH
UID:50647175-27c4-44f3-987a-24d34a08fe3b
X-WR-CALDESC:
X-WR-RELCALID:32e041e8e704257e22ebb47c0a8c1ff8
X-WR-TIMEZONE:America/Chicago
BEGIN:VTIMEZONE
TZID:America/Chicago
BEGIN:STANDARD
TZNAME:CST
DTSTART:20241103T020000
TZOFFSETFROM:-0500
TZOFFSETTO:-0600
RDATE:20251102T020000
RDATE:20261101T020000
END:STANDARD
BEGIN:DAYLIGHT
TZNAME:CDT
DTSTART:20250309T020000
TZOFFSETFROM:-0600
TZOFFSETTO:-0500
RDATE:20260308T020000
END:DAYLIGHT
END:VTIMEZONE
BEGIN:VEVENT
UID:2b4d8017-dfdb-4cbf-a2a8-b891ebdab63e
DTSTAMP:20260421T081332Z
DESCRIPTION:
DTSTART;TZID=America/Chicago:20250512T050000
DTEND;TZID=America/Chicago:20250514T050001
LOCATION:Peoria Christian School\, Pella\, IA
SUMMARY:School Presentation: Peoria Christian School
END:VEVENT
END:VCALENDAR
