BEGIN:VCALENDAR
VERSION:2.0
PRODID:-//lifelinemo.org//NONSGML kigkonsult.se iCalcreator 2.30.10//
CALSCALE:GREGORIAN
METHOD:PUBLISH
UID:9125e1d3-55ff-4780-965d-9b5b3b58ab37
X-WR-CALDESC:
X-WR-RELCALID:9b82d8931282b8ad5c420bae576df98d
X-WR-TIMEZONE:America/Chicago
BEGIN:VTIMEZONE
TZID:America/Chicago
BEGIN:STANDARD
TZNAME:CST
DTSTART:20241103T020000
TZOFFSETFROM:-0500
TZOFFSETTO:-0600
RDATE:20251102T020000
RDATE:20261101T020000
END:STANDARD
BEGIN:DAYLIGHT
TZNAME:CDT
DTSTART:20250309T020000
TZOFFSETFROM:-0600
TZOFFSETTO:-0500
RDATE:20260308T020000
END:DAYLIGHT
END:VTIMEZONE
BEGIN:VEVENT
UID:beddb1c0-d954-41d6-ae6e-019bb5e5795e
DTSTAMP:20260421T081027Z
DESCRIPTION:
DTSTART;TZID=America/Chicago:20250514T050000
DTEND;TZID=America/Chicago:20250516T050001
LOCATION:Knox County Middle School\, Edina\, MO
SUMMARY:School Presentation: Knox County School
END:VEVENT
END:VCALENDAR
