BEGIN:VCALENDAR
VERSION:2.0
PRODID:-//lifelinemo.org//NONSGML kigkonsult.se iCalcreator 2.30.10//
CALSCALE:GREGORIAN
METHOD:PUBLISH
UID:ae4f414f-cf6d-4464-9b2e-45b136fe0485
X-WR-CALDESC:
X-WR-RELCALID:a2d8e09cbdce24d141499c299bcf66f3
X-WR-TIMEZONE:America/Chicago
BEGIN:VTIMEZONE
TZID:America/Chicago
BEGIN:STANDARD
TZNAME:CST
DTSTART:20241103T020000
TZOFFSETFROM:-0500
TZOFFSETTO:-0600
RDATE:20251102T020000
RDATE:20261101T020000
END:STANDARD
BEGIN:DAYLIGHT
TZNAME:CDT
DTSTART:20250309T020000
TZOFFSETFROM:-0600
TZOFFSETTO:-0500
RDATE:20260308T020000
RDATE:20270314T020000
END:DAYLIGHT
END:VTIMEZONE
BEGIN:VEVENT
UID:62a7d093-a047-4e97-821e-0637556eca8e
DTSTAMP:20260421T081238Z
DESCRIPTION:
DTSTART;TZID=America/Chicago:20250916T050000
DTEND;TZID=America/Chicago:20250918T050001
LOCATION:Schuyler County High School\, Queen City\, MO
SUMMARY:School Presentation: Schuyler County High School
END:VEVENT
END:VCALENDAR
