BEGIN:VCALENDAR
VERSION:2.0
PRODID:-//lifelinemo.org//NONSGML kigkonsult.se iCalcreator 2.30.10//
CALSCALE:GREGORIAN
METHOD:PUBLISH
UID:5a92a144-2651-432b-9406-de6a535d9417
X-WR-CALDESC:
X-WR-RELCALID:cd11e29d769e01f1f4b281813e82db94
X-WR-TIMEZONE:America/Chicago
BEGIN:VTIMEZONE
TZID:America/Chicago
BEGIN:STANDARD
TZNAME:CST
DTSTART:20241103T020000
TZOFFSETFROM:-0500
TZOFFSETTO:-0600
RDATE:20251102T020000
RDATE:20261101T020000
END:STANDARD
BEGIN:DAYLIGHT
TZNAME:CDT
DTSTART:20250309T020000
TZOFFSETFROM:-0600
TZOFFSETTO:-0500
RDATE:20260308T020000
RDATE:20270314T020000
END:DAYLIGHT
END:VTIMEZONE
BEGIN:VEVENT
UID:d12f655d-b1b7-4a87-9e60-89b8cdb2a943
DTSTAMP:20260421T080856Z
DESCRIPTION:
DTSTART;TZID=America/Chicago:20250930T050000
DTEND;TZID=America/Chicago:20251002T050001
LOCATION:Mark Twain High School\, Center\, MO
SUMMARY:School Presentation: Mark Twain High School
END:VEVENT
END:VCALENDAR
