BEGIN:VCALENDAR
VERSION:2.0
PRODID:-//lifelinemo.org//NONSGML kigkonsult.se iCalcreator 2.30.10//
CALSCALE:GREGORIAN
METHOD:PUBLISH
UID:b26fc544-3ba5-4b37-bb6e-7b7e2cd688b1
X-WR-CALDESC:
X-WR-RELCALID:289502bf347e9544ea628a43e993b295
X-WR-TIMEZONE:America/Chicago
BEGIN:VTIMEZONE
TZID:America/Chicago
BEGIN:STANDARD
TZNAME:CST
DTSTART:20241103T020000
TZOFFSETFROM:-0500
TZOFFSETTO:-0600
RDATE:20251102T020000
RDATE:20261101T020000
END:STANDARD
BEGIN:DAYLIGHT
TZNAME:CDT
DTSTART:20250309T020000
TZOFFSETFROM:-0600
TZOFFSETTO:-0500
RDATE:20260308T020000
RDATE:20270314T020000
END:DAYLIGHT
END:VTIMEZONE
BEGIN:VEVENT
UID:cb80ed5d-6e53-40f1-b694-af24b2c3ca10
DTSTAMP:20260421T080849Z
DESCRIPTION:
DTSTART;TZID=America/Chicago:20250930T050000
DTEND;TZID=America/Chicago:20251003T050001
LOCATION:Winfield Mt. Union\, Winfield\, IA
SUMMARY:School Presentation: Winfield Mt. Union
END:VEVENT
END:VCALENDAR
