BEGIN:VCALENDAR
VERSION:2.0
PRODID:-//lifelinemo.org//NONSGML kigkonsult.se iCalcreator 2.30.10//
CALSCALE:GREGORIAN
METHOD:PUBLISH
UID:fc9692e0-0687-4115-9c6e-48deb0377c07
X-WR-CALDESC:
X-WR-RELCALID:fb4a00e25e49d6d44d3766869c4c5fef
X-WR-TIMEZONE:America/Chicago
BEGIN:VTIMEZONE
TZID:America/Chicago
BEGIN:STANDARD
TZNAME:CST
DTSTART:20241103T020000
TZOFFSETFROM:-0500
TZOFFSETTO:-0600
RDATE:20251102T020000
RDATE:20261101T020000
END:STANDARD
BEGIN:DAYLIGHT
TZNAME:CDT
DTSTART:20250309T020000
TZOFFSETFROM:-0600
TZOFFSETTO:-0500
RDATE:20260308T020000
RDATE:20270314T020000
END:DAYLIGHT
END:VTIMEZONE
BEGIN:VEVENT
UID:e1e80534-622d-4863-b737-6f8408e91d0d
DTSTAMP:20260421T080849Z
DESCRIPTION:
DTSTART;TZID=America/Chicago:20251007T050000
DTEND;TZID=America/Chicago:20251009T050001
LOCATION:Monroe City Schools\, Monroe City\, MO
SUMMARY:School Presentation: Monroe City Schools
END:VEVENT
END:VCALENDAR
