BEGIN:VCALENDAR
VERSION:2.0
PRODID:-//lifelinemo.org//NONSGML kigkonsult.se iCalcreator 2.30.10//
CALSCALE:GREGORIAN
METHOD:PUBLISH
UID:9661ada4-e31a-42a8-998e-015a8ccab57d
X-WR-CALDESC:
X-WR-RELCALID:11f0e3e8561b3e07272c407d3a7b6f22
X-WR-TIMEZONE:America/Chicago
BEGIN:VTIMEZONE
TZID:America/Chicago
BEGIN:STANDARD
TZNAME:CST
DTSTART:20241103T020000
TZOFFSETFROM:-0500
TZOFFSETTO:-0600
RDATE:20251102T020000
RDATE:20261101T020000
END:STANDARD
BEGIN:DAYLIGHT
TZNAME:CDT
DTSTART:20250309T020000
TZOFFSETFROM:-0600
TZOFFSETTO:-0500
RDATE:20260308T020000
RDATE:20270314T020000
END:DAYLIGHT
END:VTIMEZONE
BEGIN:VEVENT
UID:ffd0f026-62f7-4b35-8922-e6a8096c33b0
DTSTAMP:20260421T080358Z
DESCRIPTION:
DTSTART;TZID=America/Chicago:20251013T050000
DTEND;TZID=America/Chicago:20251015T050001
LOCATION:Macon High School\, Macon\, MO
SUMMARY:School Presentation: Macon High School
END:VEVENT
END:VCALENDAR
