BEGIN:VCALENDAR
VERSION:2.0
PRODID:-//lifelinemo.org//NONSGML kigkonsult.se iCalcreator 2.30.10//
CALSCALE:GREGORIAN
METHOD:PUBLISH
UID:7a376999-2b1b-41d9-88ba-e1a769e9f819
X-WR-CALDESC:
X-WR-RELCALID:2f0084130b4f522b35a8aa1f94b57546
X-WR-TIMEZONE:America/Chicago
BEGIN:VTIMEZONE
TZID:America/Chicago
BEGIN:STANDARD
TZNAME:CST
DTSTART:20241103T020000
TZOFFSETFROM:-0500
TZOFFSETTO:-0600
RDATE:20251102T020000
RDATE:20261101T020000
END:STANDARD
BEGIN:DAYLIGHT
TZNAME:CDT
DTSTART:20250309T020000
TZOFFSETFROM:-0600
TZOFFSETTO:-0500
RDATE:20260308T020000
RDATE:20270314T020000
END:DAYLIGHT
END:VTIMEZONE
BEGIN:VEVENT
UID:de250df3-914e-4341-b945-666200b1a44d
DTSTAMP:20260421T080319Z
DESCRIPTION:
DTSTART;TZID=America/Chicago:20251021T050000
DTEND;TZID=America/Chicago:20251023T050001
LOCATION:Higbee High School\, Higbee\, MO
SUMMARY:School Presentation: Higbee High School
END:VEVENT
END:VCALENDAR
