BEGIN:VCALENDAR
VERSION:2.0
PRODID:-//lifelinemo.org//NONSGML kigkonsult.se iCalcreator 2.30.10//
CALSCALE:GREGORIAN
METHOD:PUBLISH
UID:98662aac-65b5-4781-816c-7af8a7e70043
X-WR-CALDESC:
X-WR-RELCALID:e8e39c6342338c082aad59072b16acba
X-WR-TIMEZONE:America/Chicago
BEGIN:VTIMEZONE
TZID:America/Chicago
BEGIN:STANDARD
TZNAME:CST
DTSTART:20241103T020000
TZOFFSETFROM:-0500
TZOFFSETTO:-0600
RDATE:20251102T020000
RDATE:20261101T020000
END:STANDARD
BEGIN:DAYLIGHT
TZNAME:CDT
DTSTART:20250309T020000
TZOFFSETFROM:-0600
TZOFFSETTO:-0500
RDATE:20260308T020000
RDATE:20270314T020000
END:DAYLIGHT
END:VTIMEZONE
BEGIN:VEVENT
UID:f98dd47c-17d5-471f-841e-ba5ac62177b5
DTSTAMP:20260421T080508Z
DESCRIPTION:
DTSTART;TZID=America/Chicago:20251027T050000
DTEND;TZID=America/Chicago:20251029T050001
LOCATION:Moberly High School\, Moberly\, MO
SUMMARY:School Presentation: Moberly High School
END:VEVENT
END:VCALENDAR
