BEGIN:VCALENDAR
VERSION:2.0
PRODID:-//lifelinemo.org//NONSGML kigkonsult.se iCalcreator 2.30.10//
CALSCALE:GREGORIAN
METHOD:PUBLISH
UID:17e1267a-4c46-4dbe-815a-9df60c366d92
X-WR-CALDESC:
X-WR-RELCALID:4af1ad331e12cf72a89ddba97d660a2b
X-WR-TIMEZONE:America/Chicago
BEGIN:VTIMEZONE
TZID:America/Chicago
BEGIN:STANDARD
TZNAME:CST
DTSTART:20241103T020000
TZOFFSETFROM:-0500
TZOFFSETTO:-0600
RDATE:20251102T020000
RDATE:20261101T020000
END:STANDARD
BEGIN:DAYLIGHT
TZNAME:CDT
DTSTART:20250309T020000
TZOFFSETFROM:-0600
TZOFFSETTO:-0500
RDATE:20260308T020000
RDATE:20270314T020000
END:DAYLIGHT
END:VTIMEZONE
BEGIN:VEVENT
UID:0611220f-80df-4246-849a-9d62a9fd965b
DTSTAMP:20260421T081119Z
DESCRIPTION:
DTSTART;TZID=America/Chicago:20251027T050000
DTEND;TZID=America/Chicago:20251029T050001
LOCATION:Putnam County School\, Unionville\, MO
SUMMARY:School Presentation: Putnam County Schools
END:VEVENT
END:VCALENDAR
