BEGIN:VCALENDAR
VERSION:2.0
PRODID:-//lifelinemo.org//NONSGML kigkonsult.se iCalcreator 2.30.10//
CALSCALE:GREGORIAN
METHOD:PUBLISH
UID:5ab0dd78-2a50-41b4-a36f-cfe883a0ce4a
X-WR-CALDESC:
X-WR-RELCALID:2db0c8dc7c706aa837f9a78dcd2b6c4b
X-WR-TIMEZONE:America/Chicago
BEGIN:VTIMEZONE
TZID:America/Chicago
BEGIN:STANDARD
TZNAME:CST
DTSTART:20251102T020000
TZOFFSETFROM:-0500
TZOFFSETTO:-0600
RDATE:20261101T020000
END:STANDARD
BEGIN:DAYLIGHT
TZNAME:CDT
DTSTART:20250309T020000
TZOFFSETFROM:-0600
TZOFFSETTO:-0500
RDATE:20260308T020000
RDATE:20270314T020000
END:DAYLIGHT
END:VTIMEZONE
BEGIN:VEVENT
UID:1d745248-5595-4f71-8cb6-f205c288b7f9
DTSTAMP:20260421T080542Z
DESCRIPTION:
DTSTART;TZID=America/Chicago:20251113T133000
DTEND;TZID=America/Chicago:20251113T150000
LOCATION:Sullivan County Health Department\, 101 Hawthorne Dr\, Milan\, MO 
 63556 US
SUMMARY:Mobile Clinic: Milan\, MO
END:VEVENT
END:VCALENDAR
