BEGIN:VCALENDAR
VERSION:2.0
PRODID:-//lifelinemo.org//NONSGML kigkonsult.se iCalcreator 2.30.10//
CALSCALE:GREGORIAN
METHOD:PUBLISH
UID:f807dd06-7d97-4382-8087-d8bfe8fd9972
X-WR-CALDESC:
X-WR-RELCALID:c2c0a3772c9f5c1d4241035292e1d5c0
X-WR-TIMEZONE:America/Chicago
BEGIN:VTIMEZONE
TZID:America/Chicago
BEGIN:STANDARD
TZNAME:CST
DTSTART:20251102T020000
TZOFFSETFROM:-0500
TZOFFSETTO:-0600
RDATE:20261101T020000
END:STANDARD
BEGIN:DAYLIGHT
TZNAME:CDT
DTSTART:20250309T020000
TZOFFSETFROM:-0600
TZOFFSETTO:-0500
RDATE:20260308T020000
RDATE:20270314T020000
END:DAYLIGHT
END:VTIMEZONE
BEGIN:VEVENT
UID:912a6868-9215-4792-8b4d-81b1728b947c
DTSTAMP:20260421T083325Z
DESCRIPTION:
DTSTART;TZID=America/Chicago:20251118T100000
DTEND;TZID=America/Chicago:20251118T110000
LOCATION:Scotland County Health Department\, 214 W Madison St\, Memphis\, A
 L 63555 US
SUMMARY:Mobile Clinic: Memphis\, MO
END:VEVENT
END:VCALENDAR
