BEGIN:VCALENDAR
VERSION:2.0
PRODID:-//lifelinemo.org//NONSGML kigkonsult.se iCalcreator 2.30.10//
CALSCALE:GREGORIAN
METHOD:PUBLISH
UID:5a6ef4c1-7ffe-4666-a5b3-6c107f66fb9f
X-WR-CALDESC:
X-WR-RELCALID:a3a7d83bc6a415b1d75a18b5b16d7f67
X-WR-TIMEZONE:America/Chicago
BEGIN:VTIMEZONE
TZID:America/Chicago
BEGIN:STANDARD
TZNAME:CST
DTSTART:20251102T020000
TZOFFSETFROM:-0500
TZOFFSETTO:-0600
RDATE:20261101T020000
END:STANDARD
BEGIN:DAYLIGHT
TZNAME:CDT
DTSTART:20250309T020000
TZOFFSETFROM:-0600
TZOFFSETTO:-0500
RDATE:20260308T020000
RDATE:20270314T020000
END:DAYLIGHT
END:VTIMEZONE
BEGIN:VEVENT
UID:20ac7b69-f923-4a91-b72d-ffc28491aef0
DTSTAMP:20260421T081140Z
DESCRIPTION:
DTSTART;TZID=America/Chicago:20251118T050000
DTEND;TZID=America/Chicago:20251119T050001
LOCATION:Fayette High School\, Fayette\, MO
SUMMARY:School Presentation: Fayette High School
END:VEVENT
END:VCALENDAR
