BEGIN:VCALENDAR
VERSION:2.0
PRODID:-//lifelinemo.org//NONSGML kigkonsult.se iCalcreator 2.30.10//
CALSCALE:GREGORIAN
METHOD:PUBLISH
UID:185595b4-4114-4836-b57c-3463d1854468
X-WR-CALDESC:
X-WR-RELCALID:3a42e1f6de2ad5262a4c9fc37804fd21
X-WR-TIMEZONE:America/Chicago
BEGIN:VTIMEZONE
TZID:America/Chicago
BEGIN:STANDARD
TZNAME:CST
DTSTART:20251102T020000
TZOFFSETFROM:-0500
TZOFFSETTO:-0600
RDATE:20261101T020000
END:STANDARD
BEGIN:DAYLIGHT
TZNAME:CDT
DTSTART:20250309T020000
TZOFFSETFROM:-0600
TZOFFSETTO:-0500
RDATE:20260308T020000
RDATE:20270314T020000
END:DAYLIGHT
END:VTIMEZONE
BEGIN:VEVENT
UID:a6aaf0c6-9444-4bd3-9e76-7866e23f4fe3
DTSTAMP:20260421T093806Z
DESCRIPTION:
DTSTART;TZID=America/Chicago:20251118T050000
DTEND;TZID=America/Chicago:20251120T050001
LOCATION:Chillicothe Middle School\, Chillicothe\, MO
SUMMARY:School Presentation: Chillicothe Middle School
END:VEVENT
END:VCALENDAR
