BEGIN:VCALENDAR
VERSION:2.0
PRODID:-//lifelinemo.org//NONSGML kigkonsult.se iCalcreator 2.30.10//
CALSCALE:GREGORIAN
METHOD:PUBLISH
UID:c69f2fbb-785f-4636-8456-64f26a5dcbc4
X-WR-CALDESC:
X-WR-RELCALID:1a72ed9d612f9154f67fc1dc265c6eb0
X-WR-TIMEZONE:America/Chicago
BEGIN:VTIMEZONE
TZID:America/Chicago
BEGIN:STANDARD
TZNAME:CST
DTSTART:20251102T020000
TZOFFSETFROM:-0500
TZOFFSETTO:-0600
RDATE:20261101T020000
END:STANDARD
BEGIN:DAYLIGHT
TZNAME:CDT
DTSTART:20250309T020000
TZOFFSETFROM:-0600
TZOFFSETTO:-0500
RDATE:20260308T020000
RDATE:20270314T020000
END:DAYLIGHT
END:VTIMEZONE
BEGIN:VEVENT
UID:ec8d5723-6289-4d6c-b6f5-2f424a32128f
DTSTAMP:20260421T081317Z
DESCRIPTION:
DTSTART;TZID=America/Chicago:20251125T100000
DTEND;TZID=America/Chicago:20251125T110000
LOCATION:Putnam County Health Department\, 103 N 18th St\, Unionville\, MO 
 63565 US
SUMMARY:Mobile Clinic: Unionville\, MO
END:VEVENT
END:VCALENDAR
