BEGIN:VCALENDAR
VERSION:2.0
PRODID:-//lifelinemo.org//NONSGML kigkonsult.se iCalcreator 2.30.10//
CALSCALE:GREGORIAN
METHOD:PUBLISH
UID:4e6b6042-8194-4074-bf89-33195b169c18
X-WR-CALDESC:
X-WR-RELCALID:3386d4a38ec007676611fdd8f6c2323c
X-WR-TIMEZONE:America/Chicago
BEGIN:VTIMEZONE
TZID:America/Chicago
BEGIN:STANDARD
TZNAME:CST
DTSTART:20251102T020000
TZOFFSETFROM:-0500
TZOFFSETTO:-0600
RDATE:20261101T020000
END:STANDARD
BEGIN:DAYLIGHT
TZNAME:CDT
DTSTART:20250309T020000
TZOFFSETFROM:-0600
TZOFFSETTO:-0500
RDATE:20260308T020000
RDATE:20270314T020000
END:DAYLIGHT
END:VTIMEZONE
BEGIN:VEVENT
UID:e25c8f41-0f76-45c7-a700-e780581be4a1
DTSTAMP:20260421T093847Z
DESCRIPTION:
DTSTART;TZID=America/Chicago:20251202T050000
DTEND;TZID=America/Chicago:20251204T050001
LOCATION:Chillicothe Middle School\, Chillicothe\, MO
SUMMARY:School Presentation: Chillicothe Middle School
END:VEVENT
END:VCALENDAR
