BEGIN:VCALENDAR
VERSION:2.0
PRODID:-//lifelinemo.org//NONSGML kigkonsult.se iCalcreator 2.30.10//
CALSCALE:GREGORIAN
METHOD:PUBLISH
UID:2cd83ba5-081a-4ae9-a67e-f5dfa3769d62
X-WR-CALDESC:
X-WR-RELCALID:0821665e88ecfd29238387986443e8be
X-WR-TIMEZONE:America/Chicago
BEGIN:VTIMEZONE
TZID:America/Chicago
BEGIN:STANDARD
TZNAME:CST
DTSTART:20251102T020000
TZOFFSETFROM:-0500
TZOFFSETTO:-0600
RDATE:20261101T020000
END:STANDARD
BEGIN:DAYLIGHT
TZNAME:CDT
DTSTART:20250309T020000
TZOFFSETFROM:-0600
TZOFFSETTO:-0500
RDATE:20260308T020000
RDATE:20270314T020000
END:DAYLIGHT
END:VTIMEZONE
BEGIN:VEVENT
UID:7740ea8b-f3ae-4474-bc56-d3ca00514f63
DTSTAMP:20260421T105520Z
DESCRIPTION:
DTSTART;TZID=America/Chicago:20251202T050000
DTEND;TZID=America/Chicago:20251205T050001
LOCATION:Moberly Middle School\, Moberly\, MO
SUMMARY:School Presentation: Moberly Middle School
END:VEVENT
END:VCALENDAR
