BEGIN:VCALENDAR
VERSION:2.0
PRODID:-//lifelinemo.org//NONSGML kigkonsult.se iCalcreator 2.30.10//
CALSCALE:GREGORIAN
METHOD:PUBLISH
UID:647ab939-19a9-4f97-a097-93ac89f9fdb5
X-WR-CALDESC:
X-WR-RELCALID:820a2ad789b4f417d123ea130d939b96
X-WR-TIMEZONE:America/Chicago
BEGIN:VTIMEZONE
TZID:America/Chicago
BEGIN:STANDARD
TZNAME:CST
DTSTART:20251102T020000
TZOFFSETFROM:-0500
TZOFFSETTO:-0600
RDATE:20261101T020000
END:STANDARD
BEGIN:DAYLIGHT
TZNAME:CDT
DTSTART:20250309T020000
TZOFFSETFROM:-0600
TZOFFSETTO:-0500
RDATE:20260308T020000
RDATE:20270314T020000
END:DAYLIGHT
END:VTIMEZONE
BEGIN:VEVENT
UID:b347d5b7-e51f-4169-af88-1db986f5f59d
DTSTAMP:20260421T094236Z
DESCRIPTION:
DTSTART;TZID=America/Chicago:20251208T050000
DTEND;TZID=America/Chicago:20251210T050001
LOCATION:Pella Christian Grade School\, Pella\, IA
SUMMARY:School Presentation: Pella Christian Grade School
END:VEVENT
END:VCALENDAR
