BEGIN:VCALENDAR
VERSION:2.0
PRODID:-//lifelinemo.org//NONSGML kigkonsult.se iCalcreator 2.30.10//
CALSCALE:GREGORIAN
METHOD:PUBLISH
UID:f8911d8f-6885-4f63-9d52-3a49c4b2d9c0
X-WR-CALDESC:
X-WR-RELCALID:13f6a4763bdc03a4d056a32ecd0a307b
X-WR-TIMEZONE:America/Chicago
BEGIN:VTIMEZONE
TZID:America/Chicago
BEGIN:STANDARD
TZNAME:CST
DTSTART:20251102T020000
TZOFFSETFROM:-0500
TZOFFSETTO:-0600
RDATE:20261101T020000
END:STANDARD
BEGIN:DAYLIGHT
TZNAME:CDT
DTSTART:20250309T020000
TZOFFSETFROM:-0600
TZOFFSETTO:-0500
RDATE:20260308T020000
RDATE:20270314T020000
END:DAYLIGHT
END:VTIMEZONE
BEGIN:VEVENT
UID:d668184d-6643-4078-84c8-682cd5e5c70e
DTSTAMP:20260421T100256Z
DESCRIPTION:
DTSTART;TZID=America/Chicago:20251208T050000
DTEND;TZID=America/Chicago:20251210T050001
LOCATION:South Shelby Middle School\, Shelbina\, MO
SUMMARY:School Presentation: South Shelby Middle School
END:VEVENT
END:VCALENDAR
