BEGIN:VCALENDAR
VERSION:2.0
PRODID:-//lifelinemo.org//NONSGML kigkonsult.se iCalcreator 2.30.10//
CALSCALE:GREGORIAN
METHOD:PUBLISH
UID:8315153d-1448-41be-af33-54610ad25a54
X-WR-CALDESC:
X-WR-RELCALID:a5845e10419749e871452552f77f57b0
X-WR-TIMEZONE:America/Chicago
BEGIN:VTIMEZONE
TZID:America/Chicago
BEGIN:STANDARD
TZNAME:CST
DTSTART:20251102T020000
TZOFFSETFROM:-0500
TZOFFSETTO:-0600
RDATE:20261101T020000
END:STANDARD
BEGIN:DAYLIGHT
TZNAME:CDT
DTSTART:20250309T020000
TZOFFSETFROM:-0600
TZOFFSETTO:-0500
RDATE:20260308T020000
RDATE:20270314T020000
END:DAYLIGHT
END:VTIMEZONE
BEGIN:VEVENT
UID:384c3893-ae16-4735-974f-6746cb356ffe
DTSTAMP:20260421T093903Z
DESCRIPTION:
DTSTART;TZID=America/Chicago:20251211T133000
DTEND;TZID=America/Chicago:20251211T150000
LOCATION:Sullivan County Health Department\, 101 Hawthorne Dr\, Milan\, MO 
 63556 US
SUMMARY:Mobile Clinic: Milan\, MO
END:VEVENT
END:VCALENDAR
