BEGIN:VCALENDAR
VERSION:2.0
PRODID:-//lifelinemo.org//NONSGML kigkonsult.se iCalcreator 2.30.10//
CALSCALE:GREGORIAN
METHOD:PUBLISH
UID:fd34f3e2-a25b-4d3c-8655-b5c6b2b733bd
X-WR-CALDESC:
X-WR-RELCALID:5dfcd5190503ab666eb57cbaca6d42c9
X-WR-TIMEZONE:America/Chicago
BEGIN:VTIMEZONE
TZID:America/Chicago
BEGIN:STANDARD
TZNAME:CST
DTSTART:20251102T020000
TZOFFSETFROM:-0500
TZOFFSETTO:-0600
RDATE:20261101T020000
END:STANDARD
BEGIN:DAYLIGHT
TZNAME:CDT
DTSTART:20250309T020000
TZOFFSETFROM:-0600
TZOFFSETTO:-0500
RDATE:20260308T020000
RDATE:20270314T020000
END:DAYLIGHT
END:VTIMEZONE
BEGIN:VEVENT
UID:54e302c6-01fc-409d-9fa3-c5a4b9e2a7ed
DTSTAMP:20260421T094456Z
DESCRIPTION:
DTSTART;TZID=America/Chicago:20251211T100000
DTEND;TZID=America/Chicago:20251211T110000
LOCATION:Putnam County Health Department\, 103 N 18th St\, Unionville\, MO 
 63565 US
SUMMARY:Mobile Clinic: Unionville\, MO
END:VEVENT
END:VCALENDAR
