BEGIN:VCALENDAR
VERSION:2.0
PRODID:-//lifelinemo.org//NONSGML kigkonsult.se iCalcreator 2.30.10//
CALSCALE:GREGORIAN
METHOD:PUBLISH
UID:83f1c2fc-2386-453b-8b9e-84cdec61ad93
X-WR-CALDESC:
X-WR-RELCALID:b70d180286e2d36d3c429b194e51266f
X-WR-TIMEZONE:America/Chicago
BEGIN:VTIMEZONE
TZID:America/Chicago
BEGIN:STANDARD
TZNAME:CST
DTSTART:20251102T020000
TZOFFSETFROM:-0500
TZOFFSETTO:-0600
RDATE:20261101T020000
END:STANDARD
BEGIN:DAYLIGHT
TZNAME:CDT
DTSTART:20250309T020000
TZOFFSETFROM:-0600
TZOFFSETTO:-0500
RDATE:20260308T020000
RDATE:20270314T020000
END:DAYLIGHT
END:VTIMEZONE
BEGIN:VEVENT
UID:322025a9-c87f-491e-b9fd-bc8054a344fa
DTSTAMP:20260421T105808Z
DESCRIPTION:
DTSTART;TZID=America/Chicago:20251209T050000
DTEND;TZID=America/Chicago:20251211T050001
LOCATION:Marion County Schools\, Philadelphia\, MO
SUMMARY:School Presentation: Marion County Schools
END:VEVENT
END:VCALENDAR
