BEGIN:VCALENDAR
VERSION:2.0
PRODID:-//lifelinemo.org//NONSGML kigkonsult.se iCalcreator 2.30.10//
CALSCALE:GREGORIAN
METHOD:PUBLISH
UID:8121cbda-0341-4cd9-87a2-73b3ce8413ed
X-WR-CALDESC:
X-WR-RELCALID:1ea1bd97f3a5d191ce44b2d6ebcbc4b9
X-WR-TIMEZONE:America/Chicago
BEGIN:VTIMEZONE
TZID:America/Chicago
BEGIN:STANDARD
TZNAME:CST
DTSTART:20251102T020000
TZOFFSETFROM:-0500
TZOFFSETTO:-0600
RDATE:20261101T020000
END:STANDARD
BEGIN:DAYLIGHT
TZNAME:CDT
DTSTART:20250309T020000
TZOFFSETFROM:-0600
TZOFFSETTO:-0500
RDATE:20260308T020000
RDATE:20270314T020000
END:DAYLIGHT
END:VTIMEZONE
BEGIN:VEVENT
UID:89535e75-081f-4c76-ac38-ca4c3345257c
DTSTAMP:20260421T094309Z
DESCRIPTION:
DTSTART;TZID=America/Chicago:20251215T050000
DTEND;TZID=America/Chicago:20251218T050001
LOCATION:Pella Christian Grade School\, Pella\, IA
SUMMARY:School Presentation: Pella Christian Grade School
END:VEVENT
END:VCALENDAR
