BEGIN:VCALENDAR
VERSION:2.0
PRODID:-//lifelinemo.org//NONSGML kigkonsult.se iCalcreator 2.30.10//
CALSCALE:GREGORIAN
METHOD:PUBLISH
UID:3396324a-fe8c-4850-b1a7-75d3da549482
X-WR-CALDESC:
X-WR-RELCALID:c9a5e66e6f6eddb52f3a715f49895efd
X-WR-TIMEZONE:America/Chicago
BEGIN:VTIMEZONE
TZID:America/Chicago
BEGIN:STANDARD
TZNAME:CST
DTSTART:20251102T020000
TZOFFSETFROM:-0500
TZOFFSETTO:-0600
RDATE:20261101T020000
END:STANDARD
BEGIN:DAYLIGHT
TZNAME:CDT
DTSTART:20250309T020000
TZOFFSETFROM:-0600
TZOFFSETTO:-0500
RDATE:20260308T020000
RDATE:20270314T020000
END:DAYLIGHT
END:VTIMEZONE
BEGIN:VEVENT
UID:27514da8-ef0b-4820-a88a-62a9a64d30b6
DTSTAMP:20260421T094158Z
DESCRIPTION:
DTSTART;TZID=America/Chicago:20251216T050000
DTEND;TZID=America/Chicago:20251218T050001
LOCATION:Meadville Schools\, Meadville\, MO
SUMMARY:School Presentation: Meadville Schools
END:VEVENT
END:VCALENDAR
