BEGIN:VCALENDAR
VERSION:2.0
PRODID:-//lifelinemo.org//NONSGML kigkonsult.se iCalcreator 2.30.10//
CALSCALE:GREGORIAN
METHOD:PUBLISH
UID:9e8113fa-a4a5-4451-84d8-ebfb859a3382
X-WR-CALDESC:
X-WR-RELCALID:0801428487203182f0208479a0fda330
X-WR-TIMEZONE:America/Chicago
BEGIN:VTIMEZONE
TZID:America/Chicago
BEGIN:STANDARD
TZNAME:CST
DTSTART:20251102T020000
TZOFFSETFROM:-0500
TZOFFSETTO:-0600
RDATE:20261101T020000
END:STANDARD
BEGIN:DAYLIGHT
TZNAME:CDT
DTSTART:20250309T020000
TZOFFSETFROM:-0600
TZOFFSETTO:-0500
RDATE:20260308T020000
RDATE:20270314T020000
END:DAYLIGHT
END:VTIMEZONE
BEGIN:VEVENT
UID:640b993c-5a57-451c-a04c-54d802599b8d
DTSTAMP:20260421T111120Z
DESCRIPTION:
DTSTART;TZID=America/Chicago:20251216T050000
DTEND;TZID=America/Chicago:20251218T050001
LOCATION:Kirksville High School\, Kirksville\, MO
SUMMARY:School Presentation: Kirksville High School
END:VEVENT
END:VCALENDAR
