BEGIN:VCALENDAR
VERSION:2.0
PRODID:-//lifelinemo.org//NONSGML kigkonsult.se iCalcreator 2.30.10//
CALSCALE:GREGORIAN
METHOD:PUBLISH
UID:10ceee98-3ff8-4d65-afa9-48bf63245e09
X-WR-CALDESC:
X-WR-RELCALID:cc8670d57477d4d2e7ec05ffd14d9719
X-WR-TIMEZONE:America/Chicago
BEGIN:VTIMEZONE
TZID:America/Chicago
BEGIN:STANDARD
TZNAME:CST
DTSTART:20251102T020000
TZOFFSETFROM:-0500
TZOFFSETTO:-0600
RDATE:20261101T020000
END:STANDARD
BEGIN:DAYLIGHT
TZNAME:CDT
DTSTART:20250309T020000
TZOFFSETFROM:-0600
TZOFFSETTO:-0500
RDATE:20260308T020000
RDATE:20270314T020000
END:DAYLIGHT
END:VTIMEZONE
BEGIN:VEVENT
UID:59d418be-e616-4891-bc86-a30dea05a0ce
DTSTAMP:20260421T094229Z
DESCRIPTION:
DTSTART;TZID=America/Chicago:20251223T100000
DTEND;TZID=America/Chicago:20251223T110000
LOCATION:Putnam County Health Department\, 103 N 18th St\, Unionville\, MO 
 63565 US
SUMMARY:Mobile Clinic: Unionville\, MO
END:VEVENT
END:VCALENDAR
