BEGIN:VCALENDAR
VERSION:2.0
PRODID:-//lifelinemo.org//NONSGML kigkonsult.se iCalcreator 2.30.10//
CALSCALE:GREGORIAN
METHOD:PUBLISH
UID:868537aa-9919-47b1-975a-8d7fb08956a2
X-WR-CALDESC:
X-WR-RELCALID:a996c1f87385dca96321444954b6a365
X-WR-TIMEZONE:America/Chicago
BEGIN:VTIMEZONE
TZID:America/Chicago
BEGIN:STANDARD
TZNAME:CST
DTSTART:20251102T020000
TZOFFSETFROM:-0500
TZOFFSETTO:-0600
RDATE:20261101T020000
END:STANDARD
BEGIN:DAYLIGHT
TZNAME:CDT
DTSTART:20250309T020000
TZOFFSETFROM:-0600
TZOFFSETTO:-0500
RDATE:20260308T020000
RDATE:20270314T020000
END:DAYLIGHT
END:VTIMEZONE
BEGIN:VEVENT
UID:9e1d20a0-da90-4eec-9fa0-3cc1e1de2736
DTSTAMP:20260421T111043Z
DESCRIPTION:
DTSTART;TZID=America/Chicago:20260105T050000
DTEND;TZID=America/Chicago:20260109T050001
LOCATION:Pella Christian School\, Pella\, IA
SUMMARY:School Presentation: Pella Christian School
END:VEVENT
END:VCALENDAR
