BEGIN:VCALENDAR
VERSION:2.0
PRODID:-//lifelinemo.org//NONSGML kigkonsult.se iCalcreator 2.30.10//
CALSCALE:GREGORIAN
METHOD:PUBLISH
UID:1baa6fc1-f34b-4f30-849c-44a15ce41467
X-WR-CALDESC:
X-WR-RELCALID:c471b281838f1228cd2dfb5dc69ea81a
X-WR-TIMEZONE:America/Chicago
BEGIN:VTIMEZONE
TZID:America/Chicago
BEGIN:STANDARD
TZNAME:CST
DTSTART:20251102T020000
TZOFFSETFROM:-0500
TZOFFSETTO:-0600
RDATE:20261101T020000
END:STANDARD
BEGIN:DAYLIGHT
TZNAME:CDT
DTSTART:20250309T020000
TZOFFSETFROM:-0600
TZOFFSETTO:-0500
RDATE:20260308T020000
RDATE:20270314T020000
END:DAYLIGHT
END:VTIMEZONE
BEGIN:VEVENT
UID:a54982d3-b962-40ca-97fb-4ff28d07524a
DTSTAMP:20260421T125504Z
DESCRIPTION:
DTSTART;TZID=America/Chicago:20260107T050000
DTEND;TZID=America/Chicago:20260109T050001
LOCATION:Monroe City Middle School\, Monroe City\, MO
SUMMARY:School Presentation: Monroe City Middle School
END:VEVENT
END:VCALENDAR
