BEGIN:VCALENDAR
VERSION:2.0
PRODID:-//lifelinemo.org//NONSGML kigkonsult.se iCalcreator 2.30.10//
CALSCALE:GREGORIAN
METHOD:PUBLISH
UID:7b905d7c-9698-49ea-81e7-49c43f902204
X-WR-CALDESC:Join us for an open house event for Lifeline's community of su
 pporters. Tour all three of our facilities including our updated education
  center and our new medical & counseling center.
X-WR-RELCALID:1c2a25c0ef546537709ed14ead75b77d
X-WR-TIMEZONE:America/Chicago
BEGIN:VTIMEZONE
TZID:America/Chicago
BEGIN:STANDARD
TZNAME:CST
DTSTART:20251102T020000
TZOFFSETFROM:-0500
TZOFFSETTO:-0600
RDATE:20261101T020000
END:STANDARD
BEGIN:DAYLIGHT
TZNAME:CDT
DTSTART:20250309T020000
TZOFFSETFROM:-0600
TZOFFSETTO:-0500
RDATE:20260308T020000
RDATE:20270314T020000
END:DAYLIGHT
END:VTIMEZONE
BEGIN:VEVENT
UID:f7a873a0-e2b6-4177-8c65-0ac920ccd700
DTSTAMP:20260421T105554Z
DESCRIPTION:Join us for an open house event for Lifeline's community of sup
 porters. Tour all three of our facilities including our updated education 
 center and our new medical & counseling center.
DTSTART;TZID=America/Chicago:20260111T130000
DTEND;TZID=America/Chicago:20260111T150000
LOCATION:1515 N New St\, Kirksville\, MO 63501 US
SUMMARY:Lifeline Open House
END:VEVENT
END:VCALENDAR
