BEGIN:VCALENDAR
VERSION:2.0
PRODID:-//lifelinemo.org//NONSGML kigkonsult.se iCalcreator 2.30.10//
CALSCALE:GREGORIAN
METHOD:PUBLISH
UID:ced4bee4-912d-4516-8b37-072750d1742b
X-WR-CALDESC:
X-WR-RELCALID:d02c91215306a5b77c33b72da7623e14
X-WR-TIMEZONE:America/Chicago
BEGIN:VTIMEZONE
TZID:America/Chicago
BEGIN:STANDARD
TZNAME:CST
DTSTART:20251102T020000
TZOFFSETFROM:-0500
TZOFFSETTO:-0600
RDATE:20261101T020000
END:STANDARD
BEGIN:DAYLIGHT
TZNAME:CDT
DTSTART:20250309T020000
TZOFFSETFROM:-0600
TZOFFSETTO:-0500
RDATE:20260308T020000
RDATE:20270314T020000
END:DAYLIGHT
END:VTIMEZONE
BEGIN:VEVENT
UID:06c31d29-fac3-4216-8966-22528bff321a
DTSTAMP:20260421T111032Z
DESCRIPTION:
DTSTART;TZID=America/Chicago:20260112T050000
DTEND;TZID=America/Chicago:20260116T050001
LOCATION:Pella Christian School\, Pella\, IA
SUMMARY:School Presentation: Pella Christian School
END:VEVENT
END:VCALENDAR
