BEGIN:VCALENDAR
VERSION:2.0
PRODID:-//lifelinemo.org//NONSGML kigkonsult.se iCalcreator 2.30.10//
CALSCALE:GREGORIAN
METHOD:PUBLISH
UID:9652d68f-64e6-4e91-93e0-e91f557c1b22
X-WR-CALDESC:
X-WR-RELCALID:84f09eddfce5fce819563bea7078be6e
X-WR-TIMEZONE:America/Chicago
BEGIN:VTIMEZONE
TZID:America/Chicago
BEGIN:STANDARD
TZNAME:CST
DTSTART:20251102T020000
TZOFFSETFROM:-0500
TZOFFSETTO:-0600
RDATE:20261101T020000
END:STANDARD
BEGIN:DAYLIGHT
TZNAME:CDT
DTSTART:20250309T020000
TZOFFSETFROM:-0600
TZOFFSETTO:-0500
RDATE:20260308T020000
RDATE:20270314T020000
END:DAYLIGHT
END:VTIMEZONE
BEGIN:VEVENT
UID:e2c32c73-9401-4011-9a4b-d80c30969da0
DTSTAMP:20260421T123336Z
DESCRIPTION:
DTSTART;TZID=America/Chicago:20260112T050000
DTEND;TZID=America/Chicago:20260114T050001
LOCATION:Braymer Schools\, Braymer\, MO
SUMMARY:School Presentation: Braymer Schools
END:VEVENT
END:VCALENDAR
