BEGIN:VCALENDAR
VERSION:2.0
PRODID:-//lifelinemo.org//NONSGML kigkonsult.se iCalcreator 2.30.10//
CALSCALE:GREGORIAN
METHOD:PUBLISH
UID:670e0cd3-141c-4d02-b731-d4d68896a0ba
X-WR-CALDESC:
X-WR-RELCALID:dcca38bb2ba4c142edcbe9eb5ffde428
X-WR-TIMEZONE:America/Chicago
BEGIN:VTIMEZONE
TZID:America/Chicago
BEGIN:STANDARD
TZNAME:CST
DTSTART:20251102T020000
TZOFFSETFROM:-0500
TZOFFSETTO:-0600
RDATE:20261101T020000
END:STANDARD
BEGIN:DAYLIGHT
TZNAME:CDT
DTSTART:20250309T020000
TZOFFSETFROM:-0600
TZOFFSETTO:-0500
RDATE:20260308T020000
RDATE:20270314T020000
END:DAYLIGHT
END:VTIMEZONE
BEGIN:VEVENT
UID:2b65f316-bae5-4652-8948-7adb59180bbf
DTSTAMP:20260421T123335Z
DESCRIPTION:
DTSTART;TZID=America/Chicago:20260113T050000
DTEND;TZID=America/Chicago:20260115T050001
LOCATION:Brookfield Middle School\, Brookfield\, MO
SUMMARY:School Presentation: Brookfield Middle School
END:VEVENT
END:VCALENDAR
