BEGIN:VCALENDAR
VERSION:2.0
PRODID:-//lifelinemo.org//NONSGML kigkonsult.se iCalcreator 2.30.10//
CALSCALE:GREGORIAN
METHOD:PUBLISH
UID:0de928b7-6a5b-4d69-baa8-772108c3a048
X-WR-CALDESC:
X-WR-RELCALID:e3efac7c6d6e6dba1f4225ffd3096906
X-WR-TIMEZONE:America/Chicago
BEGIN:VTIMEZONE
TZID:America/Chicago
BEGIN:STANDARD
TZNAME:CST
DTSTART:20251102T020000
TZOFFSETFROM:-0500
TZOFFSETTO:-0600
RDATE:20261101T020000
END:STANDARD
BEGIN:DAYLIGHT
TZNAME:CDT
DTSTART:20250309T020000
TZOFFSETFROM:-0600
TZOFFSETTO:-0500
RDATE:20260308T020000
RDATE:20270314T020000
END:DAYLIGHT
END:VTIMEZONE
BEGIN:VEVENT
UID:0f22fb31-062b-46b6-aefc-a7f43e730254
DTSTAMP:20260421T104911Z
DESCRIPTION:
DTSTART;TZID=America/Chicago:20260115T050000
DTEND;TZID=America/Chicago:20260115T050001
LOCATION:Laredo Elementary School\, Laredo\, MO
SUMMARY:School Presentation: Laredo Elementary School
END:VEVENT
END:VCALENDAR
