BEGIN:VCALENDAR
VERSION:2.0
PRODID:-//lifelinemo.org//NONSGML kigkonsult.se iCalcreator 2.30.10//
CALSCALE:GREGORIAN
METHOD:PUBLISH
UID:19f2d38e-3bfb-4336-bb15-fe9468093bca
X-WR-CALDESC:
X-WR-RELCALID:ace0ab3ab94a0a6d9828d9029bb174a4
X-WR-TIMEZONE:America/Chicago
BEGIN:VTIMEZONE
TZID:America/Chicago
BEGIN:STANDARD
TZNAME:CST
DTSTART:20251102T020000
TZOFFSETFROM:-0500
TZOFFSETTO:-0600
RDATE:20261101T020000
END:STANDARD
BEGIN:DAYLIGHT
TZNAME:CDT
DTSTART:20250309T020000
TZOFFSETFROM:-0600
TZOFFSETTO:-0500
RDATE:20260308T020000
RDATE:20270314T020000
END:DAYLIGHT
END:VTIMEZONE
BEGIN:VEVENT
UID:b362048e-e5bd-4384-bf5e-6fa5f4f01a70
DTSTAMP:20260421T105358Z
DESCRIPTION:
DTSTART;TZID=America/Chicago:20260120T133000
DTEND;TZID=America/Chicago:20260120T150000
LOCATION:
SUMMARY:Mobile Clinic: Milan\, MO
END:VEVENT
END:VCALENDAR
