BEGIN:VCALENDAR
VERSION:2.0
PRODID:-//lifelinemo.org//NONSGML kigkonsult.se iCalcreator 2.30.10//
CALSCALE:GREGORIAN
METHOD:PUBLISH
UID:f14e6621-3613-4902-ade4-94291b924a1b
X-WR-CALDESC:
X-WR-RELCALID:5526069c02fb25904d34463e2cd67439
X-WR-TIMEZONE:America/Chicago
BEGIN:VTIMEZONE
TZID:America/Chicago
BEGIN:STANDARD
TZNAME:CST
DTSTART:20251102T020000
TZOFFSETFROM:-0500
TZOFFSETTO:-0600
RDATE:20261101T020000
END:STANDARD
BEGIN:DAYLIGHT
TZNAME:CDT
DTSTART:20250309T020000
TZOFFSETFROM:-0600
TZOFFSETTO:-0500
RDATE:20260308T020000
RDATE:20270314T020000
END:DAYLIGHT
END:VTIMEZONE
BEGIN:VEVENT
UID:ee101e1e-43fe-4dc6-9dfe-a2c22237fdf6
DTSTAMP:20260421T104911Z
DESCRIPTION:
DTSTART;TZID=America/Chicago:20260122T050000
DTEND;TZID=America/Chicago:20260122T050001
LOCATION:Laredo Elementary School\, Laredo\, MO
SUMMARY:School Presentation: Laredo Elementary School
END:VEVENT
END:VCALENDAR
