BEGIN:VCALENDAR
VERSION:2.0
PRODID:-//lifelinemo.org//NONSGML kigkonsult.se iCalcreator 2.30.10//
CALSCALE:GREGORIAN
METHOD:PUBLISH
UID:25c9aef4-b247-4ca3-8daf-7459a8ed26da
X-WR-CALDESC:
X-WR-RELCALID:ec2911e69fbf2e1cec4abb946f326e54
X-WR-TIMEZONE:America/Chicago
BEGIN:VTIMEZONE
TZID:America/Chicago
BEGIN:STANDARD
TZNAME:CST
DTSTART:20251102T020000
TZOFFSETFROM:-0500
TZOFFSETTO:-0600
RDATE:20261101T020000
END:STANDARD
BEGIN:DAYLIGHT
TZNAME:CDT
DTSTART:20250309T020000
TZOFFSETFROM:-0600
TZOFFSETTO:-0500
RDATE:20260308T020000
RDATE:20270314T020000
END:DAYLIGHT
END:VTIMEZONE
BEGIN:VEVENT
UID:54c676c2-18a8-46de-8cf8-bef15a3bf6d0
DTSTAMP:20260421T122959Z
DESCRIPTION:
DTSTART;TZID=America/Chicago:20260120T050000
DTEND;TZID=America/Chicago:20260122T050001
LOCATION:Westran Schools\, Huntsville\, MO
SUMMARY:School Presentation: Westran Schools
END:VEVENT
END:VCALENDAR
