BEGIN:VCALENDAR
VERSION:2.0
PRODID:-//lifelinemo.org//NONSGML kigkonsult.se iCalcreator 2.30.10//
CALSCALE:GREGORIAN
METHOD:PUBLISH
UID:cb7fb700-e03b-4da0-9282-22c9db4bd1b5
X-WR-CALDESC:
X-WR-RELCALID:e45c965df2621be3015597ccb4f5173f
X-WR-TIMEZONE:America/Chicago
BEGIN:VTIMEZONE
TZID:America/Chicago
BEGIN:STANDARD
TZNAME:CST
DTSTART:20251102T020000
TZOFFSETFROM:-0500
TZOFFSETTO:-0600
RDATE:20261101T020000
END:STANDARD
BEGIN:DAYLIGHT
TZNAME:CDT
DTSTART:20250309T020000
TZOFFSETFROM:-0600
TZOFFSETTO:-0500
RDATE:20260308T020000
RDATE:20270314T020000
END:DAYLIGHT
END:VTIMEZONE
BEGIN:VEVENT
UID:78f4afac-a29d-452a-bc54-1de10473f75b
DTSTAMP:20260421T111043Z
DESCRIPTION:
DTSTART;TZID=America/Chicago:20260127T100000
DTEND;TZID=America/Chicago:20260127T110000
LOCATION:Putnam County Health Department\, 103 N 18th St\, Unionville\, MO 
 63565 US
SUMMARY:Mobile Clinic: Unionville\, MO
END:VEVENT
END:VCALENDAR
