BEGIN:VCALENDAR
VERSION:2.0
PRODID:-//lifelinemo.org//NONSGML kigkonsult.se iCalcreator 2.30.10//
CALSCALE:GREGORIAN
METHOD:PUBLISH
UID:01a18cdb-595e-4ee7-96d0-5c4f750fc583
X-WR-CALDESC:
X-WR-RELCALID:e2752c406f8895be11ac404afb7e28b8
X-WR-TIMEZONE:America/Chicago
BEGIN:VTIMEZONE
TZID:America/Chicago
BEGIN:STANDARD
TZNAME:CST
DTSTART:20251102T020000
TZOFFSETFROM:-0500
TZOFFSETTO:-0600
RDATE:20261101T020000
END:STANDARD
BEGIN:DAYLIGHT
TZNAME:CDT
DTSTART:20250309T020000
TZOFFSETFROM:-0600
TZOFFSETTO:-0500
RDATE:20260308T020000
RDATE:20270314T020000
END:DAYLIGHT
END:VTIMEZONE
BEGIN:VEVENT
UID:f14a0cd1-e06b-472d-82ee-dc637f3ffa45
DTSTAMP:20260421T105717Z
DESCRIPTION:
DTSTART;TZID=America/Chicago:20260127T050000
DTEND;TZID=America/Chicago:20260129T050001
LOCATION:Chillicothe Schools\, Chillicothe\, MO
SUMMARY:School Presentation: Chillicothe Schools
END:VEVENT
END:VCALENDAR
