BEGIN:VCALENDAR
VERSION:2.0
PRODID:-//lifelinemo.org//NONSGML kigkonsult.se iCalcreator 2.30.10//
CALSCALE:GREGORIAN
METHOD:PUBLISH
UID:b91ad96f-4410-49e7-b906-128ce6701305
X-WR-CALDESC:
X-WR-RELCALID:2aa9a24cc8e8a7588a6e18917de91232
X-WR-TIMEZONE:America/Chicago
BEGIN:VTIMEZONE
TZID:America/Chicago
BEGIN:STANDARD
TZNAME:CST
DTSTART:20251102T020000
TZOFFSETFROM:-0500
TZOFFSETTO:-0600
RDATE:20261101T020000
END:STANDARD
BEGIN:DAYLIGHT
TZNAME:CDT
DTSTART:20250309T020000
TZOFFSETFROM:-0600
TZOFFSETTO:-0500
RDATE:20260308T020000
RDATE:20270314T020000
END:DAYLIGHT
END:VTIMEZONE
BEGIN:VEVENT
UID:70e13862-7c45-4761-940c-a6e5474a710a
DTSTAMP:20260421T105908Z
DESCRIPTION:
DTSTART;TZID=America/Chicago:20260127T050000
DTEND;TZID=America/Chicago:20260129T050001
LOCATION:Trenton High School\, Trenton\, MO
SUMMARY:School Presentation: Trenton High School
END:VEVENT
END:VCALENDAR
