BEGIN:VCALENDAR
VERSION:2.0
PRODID:-//lifelinemo.org//NONSGML kigkonsult.se iCalcreator 2.30.10//
CALSCALE:GREGORIAN
METHOD:PUBLISH
UID:cf63aaf5-0a8b-4102-a441-f27079d068ba
X-WR-CALDESC:
X-WR-RELCALID:3d9b2e9078d856e79b2516272d810515
X-WR-TIMEZONE:America/Chicago
BEGIN:VTIMEZONE
TZID:America/Chicago
BEGIN:STANDARD
TZNAME:CST
DTSTART:20251102T020000
TZOFFSETFROM:-0500
TZOFFSETTO:-0600
RDATE:20261101T020000
END:STANDARD
BEGIN:DAYLIGHT
TZNAME:CDT
DTSTART:20250309T020000
TZOFFSETFROM:-0600
TZOFFSETTO:-0500
RDATE:20260308T020000
RDATE:20270314T020000
END:DAYLIGHT
END:VTIMEZONE
BEGIN:VEVENT
UID:6aa09d3b-22c4-4a01-bfed-f89af1ebe4b7
DTSTAMP:20260421T105349Z
DESCRIPTION:
DTSTART;TZID=America/Chicago:20260127T050000
DTEND;TZID=America/Chicago:20260129T050001
LOCATION:Westran High School\, Huntsville\, MO
SUMMARY:School Presentation: Westran High School
END:VEVENT
END:VCALENDAR
