BEGIN:VCALENDAR
VERSION:2.0
PRODID:-//lifelinemo.org//NONSGML kigkonsult.se iCalcreator 2.30.10//
CALSCALE:GREGORIAN
METHOD:PUBLISH
UID:cff270b6-9090-480c-9f0f-08ebc19ca567
X-WR-CALDESC:
X-WR-RELCALID:47f575fed8c90ad3fdae4e5cbd20970e
X-WR-TIMEZONE:America/Chicago
BEGIN:VTIMEZONE
TZID:America/Chicago
BEGIN:STANDARD
TZNAME:CST
DTSTART:20251102T020000
TZOFFSETFROM:-0500
TZOFFSETTO:-0600
RDATE:20261101T020000
END:STANDARD
BEGIN:DAYLIGHT
TZNAME:CDT
DTSTART:20250309T020000
TZOFFSETFROM:-0600
TZOFFSETTO:-0500
RDATE:20260308T020000
RDATE:20270314T020000
END:DAYLIGHT
END:VTIMEZONE
BEGIN:VEVENT
UID:7e26cb87-b0d1-450f-a0b2-d0ad30792018
DTSTAMP:20260421T131226Z
DESCRIPTION:
DTSTART;TZID=America/Chicago:20260203T050000
DTEND;TZID=America/Chicago:20260205T050001
LOCATION:Macon County School\, New Cambria\, MO
SUMMARY:School Presentation: New Cambria
END:VEVENT
END:VCALENDAR
