BEGIN:VCALENDAR
VERSION:2.0
PRODID:-//lifelinemo.org//NONSGML kigkonsult.se iCalcreator 2.30.10//
CALSCALE:GREGORIAN
METHOD:PUBLISH
UID:38d62b24-90ee-4797-b678-7f67a0764bb9
X-WR-CALDESC:
X-WR-RELCALID:98f5ffb3e43503d9bc3ae603fd41994a
X-WR-TIMEZONE:America/Chicago
BEGIN:VTIMEZONE
TZID:America/Chicago
BEGIN:STANDARD
TZNAME:CST
DTSTART:20251102T020000
TZOFFSETFROM:-0500
TZOFFSETTO:-0600
RDATE:20261101T020000
END:STANDARD
BEGIN:DAYLIGHT
TZNAME:CDT
DTSTART:20250309T020000
TZOFFSETFROM:-0600
TZOFFSETTO:-0500
RDATE:20260308T020000
RDATE:20270314T020000
END:DAYLIGHT
END:VTIMEZONE
BEGIN:VEVENT
UID:e1f902b4-4dd5-4375-8440-32d0b1a7781d
DTSTAMP:20260421T142151Z
DESCRIPTION:
DTSTART;TZID=America/Chicago:20260203T050000
DTEND;TZID=America/Chicago:20260205T050001
LOCATION:Chillicothe Schools\, Chillicothe\, MO
SUMMARY:School Presentation: Chillicothe Schools
END:VEVENT
END:VCALENDAR
