BEGIN:VCALENDAR
VERSION:2.0
PRODID:-//lifelinemo.org//NONSGML kigkonsult.se iCalcreator 2.30.10//
CALSCALE:GREGORIAN
METHOD:PUBLISH
UID:3ecd085a-3273-47bb-ac00-21e5e218a0a4
X-WR-CALDESC:
X-WR-RELCALID:8bc0bb569427e8bc6b9e524ac725dde5
X-WR-TIMEZONE:America/Chicago
BEGIN:VTIMEZONE
TZID:America/Chicago
BEGIN:STANDARD
TZNAME:CST
DTSTART:20251102T020000
TZOFFSETFROM:-0500
TZOFFSETTO:-0600
RDATE:20261101T020000
END:STANDARD
BEGIN:DAYLIGHT
TZNAME:CDT
DTSTART:20250309T020000
TZOFFSETFROM:-0600
TZOFFSETTO:-0500
RDATE:20260308T020000
RDATE:20270314T020000
END:DAYLIGHT
END:VTIMEZONE
BEGIN:VEVENT
UID:9a5e9734-2a3f-40d8-b8ed-dd2f7bd3d5f2
DTSTAMP:20260421T144153Z
DESCRIPTION:
DTSTART;TZID=America/Chicago:20260203T050000
DTEND;TZID=America/Chicago:20260205T050001
LOCATION:Glasgow School\, Glasgow\, MO
SUMMARY:School Presentation: Glasgow Schools
END:VEVENT
END:VCALENDAR
