BEGIN:VCALENDAR
VERSION:2.0
PRODID:-//lifelinemo.org//NONSGML kigkonsult.se iCalcreator 2.30.10//
CALSCALE:GREGORIAN
METHOD:PUBLISH
UID:8d0e684f-4e39-40ef-b26f-af53d7e84294
X-WR-CALDESC:
X-WR-RELCALID:6be6a106330b67a5dbeb0b58c5e301f8
X-WR-TIMEZONE:America/Chicago
BEGIN:VTIMEZONE
TZID:America/Chicago
BEGIN:STANDARD
TZNAME:CST
DTSTART:20251102T020000
TZOFFSETFROM:-0500
TZOFFSETTO:-0600
RDATE:20261101T020000
END:STANDARD
BEGIN:DAYLIGHT
TZNAME:CDT
DTSTART:20250309T020000
TZOFFSETFROM:-0600
TZOFFSETTO:-0500
RDATE:20260308T020000
RDATE:20270314T020000
END:DAYLIGHT
END:VTIMEZONE
BEGIN:VEVENT
UID:e487a200-d640-4a2a-b790-109dfd6e13b9
DTSTAMP:20260421T123010Z
DESCRIPTION:
DTSTART;TZID=America/Chicago:20260210T050000
DTEND;TZID=America/Chicago:20260212T050001
LOCATION:Penney High School\, Hamilton\, MO
SUMMARY:School Presentation: Hamilton High School
END:VEVENT
END:VCALENDAR
