BEGIN:VCALENDAR
VERSION:2.0
PRODID:-//lifelinemo.org//NONSGML kigkonsult.se iCalcreator 2.30.10//
CALSCALE:GREGORIAN
METHOD:PUBLISH
UID:a2b82ffd-b567-4a6f-b98a-66915104a28d
X-WR-CALDESC:
X-WR-RELCALID:b8f3a4b1cd56b2a9d20748bb0c94e25e
X-WR-TIMEZONE:America/Chicago
BEGIN:VTIMEZONE
TZID:America/Chicago
BEGIN:STANDARD
TZNAME:CST
DTSTART:20251102T020000
TZOFFSETFROM:-0500
TZOFFSETTO:-0600
RDATE:20261101T020000
END:STANDARD
BEGIN:DAYLIGHT
TZNAME:CDT
DTSTART:20250309T020000
TZOFFSETFROM:-0600
TZOFFSETTO:-0500
RDATE:20260308T020000
RDATE:20270314T020000
END:DAYLIGHT
END:VTIMEZONE
BEGIN:VEVENT
UID:bde5badc-ca6b-4933-96c3-64355cbdf4ad
DTSTAMP:20260421T142125Z
DESCRIPTION:
DTSTART;TZID=America/Chicago:20260210T050000
DTEND;TZID=America/Chicago:20260212T050001
LOCATION:Chillicothe Schools\, Chillicothe\, MO
SUMMARY:School Presentation: Chillicothe Schools
END:VEVENT
END:VCALENDAR
