BEGIN:VCALENDAR
VERSION:2.0
PRODID:-//lifelinemo.org//NONSGML kigkonsult.se iCalcreator 2.30.10//
CALSCALE:GREGORIAN
METHOD:PUBLISH
UID:f875b02a-f36e-456f-99c0-44d9897888d7
X-WR-CALDESC:
X-WR-RELCALID:d38b19496b014e5708c7e50960236104
X-WR-TIMEZONE:America/Chicago
BEGIN:VTIMEZONE
TZID:America/Chicago
BEGIN:STANDARD
TZNAME:CST
DTSTART:20251102T020000
TZOFFSETFROM:-0500
TZOFFSETTO:-0600
RDATE:20261101T020000
END:STANDARD
BEGIN:DAYLIGHT
TZNAME:CDT
DTSTART:20250309T020000
TZOFFSETFROM:-0600
TZOFFSETTO:-0500
RDATE:20260308T020000
RDATE:20270314T020000
END:DAYLIGHT
END:VTIMEZONE
BEGIN:VEVENT
UID:14796e6b-a027-48ca-ba5c-e76d37caf0ae
DTSTAMP:20260421T125841Z
DESCRIPTION:
DTSTART;TZID=America/Chicago:20260213T050000
DTEND;TZID=America/Chicago:20260213T050001
LOCATION:Northeast Christian High School\, Kirksville\, MO
SUMMARY:School Presentation: Northeast Christian High School
END:VEVENT
END:VCALENDAR
