BEGIN:VCALENDAR
VERSION:2.0
PRODID:-//lifelinemo.org//NONSGML kigkonsult.se iCalcreator 2.30.10//
CALSCALE:GREGORIAN
METHOD:PUBLISH
UID:cf7b4e0b-eff4-4c09-8247-1d9b35011bac
X-WR-CALDESC:
X-WR-RELCALID:0546b8abe9e2111c244a8fa66e0100fb
X-WR-TIMEZONE:America/Chicago
BEGIN:VTIMEZONE
TZID:America/Chicago
BEGIN:STANDARD
TZNAME:CST
DTSTART:20251102T020000
TZOFFSETFROM:-0500
TZOFFSETTO:-0600
RDATE:20261101T020000
END:STANDARD
BEGIN:DAYLIGHT
TZNAME:CDT
DTSTART:20250309T020000
TZOFFSETFROM:-0600
TZOFFSETTO:-0500
RDATE:20260308T020000
RDATE:20270314T020000
END:DAYLIGHT
END:VTIMEZONE
BEGIN:VEVENT
UID:5816d3f0-b25f-47af-9505-413201a78b42
DTSTAMP:20260421T123329Z
DESCRIPTION:
DTSTART;TZID=America/Chicago:20260217T133000
DTEND;TZID=America/Chicago:20260217T150000
LOCATION:Sullivan County Health Department\, 101 Hawthorne Dr\, Milan\, MO 
 63556 US
SUMMARY:Mobile Clinic: Milan\, MO
END:VEVENT
END:VCALENDAR
