BEGIN:VCALENDAR
VERSION:2.0
PRODID:-//lifelinemo.org//NONSGML kigkonsult.se iCalcreator 2.30.10//
CALSCALE:GREGORIAN
METHOD:PUBLISH
UID:96bb370b-78fa-43cb-b25b-e8e4ea1dec55
X-WR-CALDESC:
X-WR-RELCALID:994931112dd1e4bd9097b31e1db120c3
X-WR-TIMEZONE:America/Chicago
BEGIN:VTIMEZONE
TZID:America/Chicago
BEGIN:STANDARD
TZNAME:CST
DTSTART:20251102T020000
TZOFFSETFROM:-0500
TZOFFSETTO:-0600
RDATE:20261101T020000
END:STANDARD
BEGIN:DAYLIGHT
TZNAME:CDT
DTSTART:20250309T020000
TZOFFSETFROM:-0600
TZOFFSETTO:-0500
RDATE:20260308T020000
RDATE:20270314T020000
END:DAYLIGHT
END:VTIMEZONE
BEGIN:VEVENT
UID:71ef4680-4765-4ee7-9a93-60fe8610bf01
DTSTAMP:20260421T122951Z
DESCRIPTION:
DTSTART;TZID=America/Chicago:20260217T050000
DTEND;TZID=America/Chicago:20260219T050001
LOCATION:Callao School\, Callao\, MO
SUMMARY:School Presentation: Callao
END:VEVENT
END:VCALENDAR
